BEGIN:VCALENDAR
VERSION:2.0
PRODID:-//SV OG Raesfeld Erle e.V. - ECPv6.15.20//NONSGML v1.0//EN
CALSCALE:GREGORIAN
METHOD:PUBLISH
X-ORIGINAL-URL:https://www.sv-og-raesfeld-erle-ev.de
X-WR-CALDESC:Veranstaltungen für SV OG Raesfeld Erle e.V.
REFRESH-INTERVAL;VALUE=DURATION:PT1H
X-Robots-Tag:noindex
X-PUBLISHED-TTL:PT1H
BEGIN:VTIMEZONE
TZID:Europe/Berlin
BEGIN:DAYLIGHT
TZOFFSETFROM:+0100
TZOFFSETTO:+0200
TZNAME:CEST
DTSTART:20220327T010000
END:DAYLIGHT
BEGIN:STANDARD
TZOFFSETFROM:+0200
TZOFFSETTO:+0100
TZNAME:CET
DTSTART:20221030T010000
END:STANDARD
BEGIN:DAYLIGHT
TZOFFSETFROM:+0100
TZOFFSETTO:+0200
TZNAME:CEST
DTSTART:20230326T010000
END:DAYLIGHT
BEGIN:STANDARD
TZOFFSETFROM:+0200
TZOFFSETTO:+0100
TZNAME:CET
DTSTART:20231029T010000
END:STANDARD
BEGIN:DAYLIGHT
TZOFFSETFROM:+0100
TZOFFSETTO:+0200
TZNAME:CEST
DTSTART:20240331T010000
END:DAYLIGHT
BEGIN:STANDARD
TZOFFSETFROM:+0200
TZOFFSETTO:+0100
TZNAME:CET
DTSTART:20241027T010000
END:STANDARD
END:VTIMEZONE
BEGIN:VEVENT
DTSTART;TZID=Europe/Berlin:20230426T080000
DTEND;TZID=Europe/Berlin:20230426T170000
DTSTAMP:20260424T201051
CREATED:20230426T170227Z
LAST-MODIFIED:20230426T170227Z
UID:1045-1682496000-1682528400@www.sv-og-raesfeld-erle-ev.de
SUMMARY:Begleithundeprüfung am 4. Juni 2023
DESCRIPTION:Begleithundeprüfung am 4. Juni 2023 \nMit Martina Wess
URL:https://www.sv-og-raesfeld-erle-ev.de/event/begleithundepruefung-am-4-juni-2023/
LOCATION:SV OG Raesfeld-Erle e.V.\, Rhader Str. 30\, Raesfeld\, 46348
END:VEVENT
END:VCALENDAR